BEGIN:VCALENDAR
VERSION:2.0
PRODID:-//Plone.org//NONSGML plone.app.event//EN
X-WR-TIMEZONE:Europe/Berlin
BEGIN:VEVENT
SUMMARY:First CTE-Conference from September 1-3\, 2024 in Bensberg
DTSTART;TZID=Europe/Berlin:20240901T200000
DTEND;TZID=Europe/Berlin:20240903T213000
DTSTAMP:20260420T160857Z
UID:531372a56d094ff791b909ad453a7b8a@www.ctsi.uni-bonn.de
CREATED:20220315T101142Z
DESCRIPTION:In the American context\, most comparative theologians develop
 ed their field of research out of the encounter of Christianity and the Ea
 stern religions. In centers of comparative theology in Europe\, for exampl
 e in Edinburgh\, Leuven\, Paderborn & Bonn\, the focus shifted to the enco
 unters of Judaism\, Christianity & Islam. This leads to different challeng
 es because of the special relationships between these three religions. Jud
 aism & Christianity seem to have developed themselves in the first centuri
 es of the common era in a kind of twin birth which ties them much closer t
 ogether than we thought in the past. Furthermore\, Jesus & Paul have incre
 asingly been understood within the Judaism of their times rather than only
  focusing on differences. Many Christian theologians developed Israel theo
 logies to respond to this close relationship and to appreciate the importa
 nce of Judaism for Christianity. Some Jewish theologians responded constru
 ctively to this approach. Registration until 12/07/2024
LAST-MODIFIED:20250906T002638Z
URL:https://www.ctsi.uni-bonn.de/en/news/events/cte-conference
END:VEVENT
BEGIN:VTIMEZONE
TZID:Europe/Berlin
X-LIC-LOCATION:Europe/Berlin
BEGIN:DAYLIGHT
DTSTART:20240331T030000
TZNAME:CEST
TZOFFSETFROM:+0100
TZOFFSETTO:+0200
END:DAYLIGHT
END:VTIMEZONE
END:VCALENDAR
